BEGIN:VCALENDAR
VERSION:2.0
PRODID:-//wp-events-plugin.com//7.2.3.1//EN
TZID:Europe/Paris
X-WR-TIMEZONE:Europe/Paris
BEGIN:VEVENT
UID:35@fqcb.be
DTSTART;TZID=Europe/Paris:20260207T193000
DTEND;TZID=Europe/Paris:20260207T233000
DTSTAMP:20251102T192501Z
URL:https://www.fqcb.be/events/soiree-annee-20-prohibition/
SUMMARY:Soirée Année '20 - Style Prohibition
DESCRIPTION:Bruce Ellison et Druss Lecomte plongent dans l'époque de la pr
 ohibition. Retrouvez-vous dans l'atmosphère envoûtante des années folle
 s pour un concert mêlant jazz authentique et performance théâtrale.\nEn
  une soirée\, retrouvez des artistes comme Louis Armstrong\, Sidney Beche
 t et bien d'autres\, une soirée qui va swinguer...
ATTACH;FMTTYPE=image/jpeg:https://www.fqcb.be/wp-content/uploads/2025/06/B
 ruce-Ellison-Druss-Lecomte-no-bass.jpg
CATEGORIES:Saison 2025-2026
LOCATION:Maison des Loisirs\, Grand'Place 9\, Mont-Saint-Guibert\, 1435\, B
 elgique
X-APPLE-STRUCTURED-LOCATION;VALUE=URI;X-ADDRESS=Grand'Place 9\, Mont-Saint-
 Guibert\, 1435\, Belgique;X-APPLE-RADIUS=100;X-TITLE=Maison des Loisirs:ge
 o:0,0
END:VEVENT
BEGIN:VTIMEZONE
TZID:Europe/Paris
X-LIC-LOCATION:Europe/Paris
BEGIN:STANDARD
DTSTART:20251026T020000
TZOFFSETFROM:+0200
TZOFFSETTO:+0100
TZNAME:CET
END:STANDARD
END:VTIMEZONE
END:VCALENDAR