BEGIN:VCALENDAR
VERSION:2.0
PRODID:-//wp-events-plugin.com//7.2.3.1//EN
TZID:Europe/Paris
X-WR-TIMEZONE:Europe/Paris
BEGIN:VEVENT
UID:34@fqcb.be
DTSTART;TZID=Europe/Paris:20251213T193000
DTEND;TZID=Europe/Paris:20251213T233000
DTSTAMP:20251103T111151Z
URL:https://www.fqcb.be/events/perry-rose/
SUMMARY:Perry Rose
DESCRIPTION:Le concert Perry Rose est malheureusement reporté à l'année 
 prochaine. Il sera remplacé par un concert de Grandgeorge.\nPerry Rose r
 éussit une fusion parfaite entre la pop anglo-saxonne et la musique tradi
 tionnelle irlandaise. Tout un univers de chansons simples et belles\, de b
 allades lumineuses et de mélodies irlandaises accrocheuses.\nS’il se pr
 oduit avec son band sur les scènes des festivals et des centre culturels\
 , il aime aussi se rapprocher de son public et créer avec lui une plus gr
 ande complicité. C’est ainsi qu’il voyage en solo dans de petites sal
 les\, avec pour seuls bagages\, ses fidèles instruments\, guitare\, ukul
 élé\, percussions\, piano.
ATTACH;FMTTYPE=image/jpeg:https://www.fqcb.be/wp-content/uploads/2025/06/P
 erry_Rose_by-Jody-Rose.jpg
CATEGORIES:Saison 2025-2026
LOCATION:Maison des Loisirs\, Grand'Place 9\, Mont-Saint-Guibert\, 1435\, B
 elgique
X-APPLE-STRUCTURED-LOCATION;VALUE=URI;X-ADDRESS=Grand'Place 9\, Mont-Saint-
 Guibert\, 1435\, Belgique;X-APPLE-RADIUS=100;X-TITLE=Maison des Loisirs:ge
 o:0,0
END:VEVENT
BEGIN:VTIMEZONE
TZID:Europe/Paris
X-LIC-LOCATION:Europe/Paris
BEGIN:STANDARD
DTSTART:20251026T020000
TZOFFSETFROM:+0200
TZOFFSETTO:+0100
TZNAME:CET
END:STANDARD
END:VTIMEZONE
END:VCALENDAR