BEGIN:VCALENDAR
VERSION:2.0
PRODID:-//wp-events-plugin.com//7.2.3.1//EN
TZID:Europe/Paris
X-WR-TIMEZONE:Europe/Paris
BEGIN:VEVENT
UID:38@fqcb.be
DTSTART;TZID=Europe/Paris:20260502T193000
DTEND;TZID=Europe/Paris:20260502T233000
DTSTAMP:20251102T192623Z
URL:https://www.fqcb.be/events/lucie-valentine/
SUMMARY:Lucie Valentine
DESCRIPTION:Tout droit venue de la nouvelle scène belge pop francophone\,\
 nLucie Valentine chante sa vérité à cœur ouvert sur des mélodies colo
 rées\, derrière son piano complice. Du chaos à la lumière\,\nses chans
 ons évoquent des histoires pas toujours tendres\, à la fois intimes et u
 niverselles qui prennent racine dans les profondeurs de l'être et les hum
 eurs du monde.\nEn 2025\, l’auteure-compositrice-interprète dévoile un
  nouvel EP "Minuit moins toi" et se prépare pour une tournée de concerts
  entre la Belgique et la France.
ATTACH;FMTTYPE=image/jpeg:https://www.fqcb.be/wp-content/uploads/2025/06/L
 ucie-Valentine-par-James-K.-Barbosa-1.jpg
CATEGORIES:Saison 2025-2026
LOCATION:Maison des Loisirs\, Grand'Place 9\, Mont-Saint-Guibert\, 1435\, B
 elgique
X-APPLE-STRUCTURED-LOCATION;VALUE=URI;X-ADDRESS=Grand'Place 9\, Mont-Saint-
 Guibert\, 1435\, Belgique;X-APPLE-RADIUS=100;X-TITLE=Maison des Loisirs:ge
 o:0,0
END:VEVENT
BEGIN:VTIMEZONE
TZID:Europe/Paris
X-LIC-LOCATION:Europe/Paris
BEGIN:DAYLIGHT
DTSTART:20260329T030000
TZOFFSETFROM:+0100
TZOFFSETTO:+0200
TZNAME:CEST
END:DAYLIGHT
END:VTIMEZONE
END:VCALENDAR