BEGIN:VCALENDAR
VERSION:2.0
PRODID:-//wp-events-plugin.com//7.2.3.1//EN
TZID:Europe/Paris
X-WR-TIMEZONE:Europe/Paris
BEGIN:VEVENT
UID:37@fqcb.be
DTSTART;TZID=Europe/Paris:20260404T193000
DTEND;TZID=Europe/Paris:20260404T233000
DTSTAMP:20260403T071225Z
URL:https://www.fqcb.be/events/ivan-paduart-patrick-deltenre/
SUMMARY:Ivan Paduart & Patrick Deltenre
DESCRIPTION:Nous sommes malheureusement contraint d'annuler le concert pré
 vu ce samedi soir.\nIvan Paduart et Patrick Deltenre font indéniablement 
 partie de la crème des jazzmen belges. Forts d’une longue complicité e
 n duo et d’une discographie prolixe (dont "Hand In Hand » en 2018 et «
  Ear We Are » en 2020)\, les deux compères viennent nous présenter "INN
 ER TRAVELS". Frais et varié\, l'album propose de nombreuses nuances entre
  énergie débordante et tendresse infinie. A découvrir !
ATTACH;FMTTYPE=image/jpeg:https://www.fqcb.be/wp-content/uploads/2025/06/I
 MGL8835-scaled.jpg
CATEGORIES:Saison 2025-2026
LOCATION:Maison des Loisirs\, Grand'Place 9\, Mont-Saint-Guibert\, 1435\, B
 elgique
X-APPLE-STRUCTURED-LOCATION;VALUE=URI;X-ADDRESS=Grand'Place 9\, Mont-Saint-
 Guibert\, 1435\, Belgique;X-APPLE-RADIUS=100;X-TITLE=Maison des Loisirs:ge
 o:0,0
END:VEVENT
BEGIN:VTIMEZONE
TZID:Europe/Paris
X-LIC-LOCATION:Europe/Paris
BEGIN:DAYLIGHT
DTSTART:20260329T030000
TZOFFSETFROM:+0100
TZOFFSETTO:+0200
TZNAME:CEST
END:DAYLIGHT
END:VTIMEZONE
END:VCALENDAR