BEGIN:VCALENDAR
VERSION:2.0
PRODID:-//wp-events-plugin.com//7.2.3.1//EN
TZID:Europe/Paris
X-WR-TIMEZONE:Europe/Paris
BEGIN:VEVENT
UID:39@fqcb.be
DTSTART;TZID=Europe/Paris:20251213T193000
DTEND;TZID=Europe/Paris:20251213T230000
DTSTAMP:20251111T155752Z
URL:https://www.fqcb.be/events/grandgeorge/
SUMMARY:Grandgeorge
DESCRIPTION:Artiste belge à la croisée de la pop\, de la soul et de la ch
 anson\, Grandgeorge nous a séduit par son énergie solaire et son authent
 icité. C’est en mode intimiste\, seul avec sa guitare et sa voix chaleu
 reuse\, qu’il nous revient et nous invite à entrer dans son univers tou
 t en proximité.\n\nSon nouvel album "A Place We Can Meet" marque un tourn
 ant dans son parcours. GrandGeorge y explore un territoire plus personnel\
 , où se mêlent lumière\, groove et émotions vraies. Ses chansons parle
 nt de liens\, de liberté\, de rencontres \, de tout ce qui nous rassemble
 .\n\nSur scène\, il partage bien plus qu’un concert : une expérience h
 umaine\, sincère et vibrante. Son univers est fait de chaleur\, d’humou
 r et d’une bienveillance communicative. Chaque chanson devient un moment
  suspendu\, une parenthèse lumineuse.\n\nCe 13 décembre\, laissez-vous p
 orter par cette pop inspirée et généreuse.\n\nBienvenue dans le monde d
 e GrandGeorge !
ATTACH;FMTTYPE=image/jpeg:https://www.fqcb.be/wp-content/uploads/2025/11/C
 OVER_COCKTAILS-scaled.jpg
CATEGORIES:Saison 2025-2026
LOCATION:Maison des Loisirs\, Grand'Place 9\, Mont-Saint-Guibert\, 1435\, B
 elgique
X-APPLE-STRUCTURED-LOCATION;VALUE=URI;X-ADDRESS=Grand'Place 9\, Mont-Saint-
 Guibert\, 1435\, Belgique;X-APPLE-RADIUS=100;X-TITLE=Maison des Loisirs:ge
 o:0,0
END:VEVENT
BEGIN:VTIMEZONE
TZID:Europe/Paris
X-LIC-LOCATION:Europe/Paris
BEGIN:STANDARD
DTSTART:20251026T020000
TZOFFSETFROM:+0200
TZOFFSETTO:+0100
TZNAME:CET
END:STANDARD
END:VTIMEZONE
END:VCALENDAR