BEGIN:VCALENDAR
VERSION:2.0
PRODID:-//wp-events-plugin.com//7.2.3.1//EN
TZID:Europe/Paris
X-WR-TIMEZONE:Europe/Paris
BEGIN:VEVENT
UID:33@fqcb.be
DTSTART;TZID=Europe/Paris:20251108T193000
DTEND;TZID=Europe/Paris:20251108T233000
DTSTAMP:20251102T192431Z
URL:https://www.fqcb.be/events/dynamic-douma/
SUMMARY:DYnamic Douma
DESCRIPTION:Originaire de Mauritanie\, DYnamic a grandi à New York avant d
 e poser ses valises à Bruxelles. Passionné de rap\, il puise ses influen
 ces chez des géants comme Wu-Tang Clan\, Kanye West ou Jay-Z. Très tôt\
 , il se distingue en travaillant avec un live band\, le DYnamic BAND\, et 
 enregistre deux albums en collaboration avec Kromestar\, Sizzla Kalonji\, 
 Omar Perry ou encore Bai Kamara Jr.\nEn 2021\, sous le pseudonyme DOUMA\, 
 il crée la surprise dans The Voice Belgique\, où il se fait remarquer co
 mme révélation hip-hop grâce à un style audacieux mêlant rock fusion 
 et rap.\nAujourd’hui\, DYnamic revient avec un nouveau projet en collabo
 ration avec le beatmaker/producteur français DOPA BEATZ. Deux premiers si
 ngles annoncent la couleur : « Keep Running (Usain Bolt) » et « Don'
 t Be Shy »\, entre puissance rythmique et sincérité brute.\nSon visage
  ne sera pas étranger à ceux qui étaient présent pour le weekend de co
 ncerts de nos 5 ans : Dynamic est le chanteur de Volt Selector.
ATTACH;FMTTYPE=image/jpeg:https://www.fqcb.be/wp-content/uploads/2025/06/1
 000066514.jpg
CATEGORIES:Saison 2025-2026
LOCATION:Maison des Loisirs\, Grand'Place 9\, Mont-Saint-Guibert\, 1435\, B
 elgique
X-APPLE-STRUCTURED-LOCATION;VALUE=URI;X-ADDRESS=Grand'Place 9\, Mont-Saint-
 Guibert\, 1435\, Belgique;X-APPLE-RADIUS=100;X-TITLE=Maison des Loisirs:ge
 o:0,0
END:VEVENT
BEGIN:VTIMEZONE
TZID:Europe/Paris
X-LIC-LOCATION:Europe/Paris
BEGIN:STANDARD
DTSTART:20251026T020000
TZOFFSETFROM:+0200
TZOFFSETTO:+0100
TZNAME:CET
END:STANDARD
END:VTIMEZONE
END:VCALENDAR