BEGIN:VCALENDAR
VERSION:2.0
PRODID:-//wp-events-plugin.com//7.2.3.1//EN
TZID:Europe/Paris
X-WR-TIMEZONE:Europe/Paris
BEGIN:VEVENT
UID:32@fqcb.be
DTSTART;TZID=Europe/Paris:20251011T193000
DTEND;TZID=Europe/Paris:20251011T233000
DTSTAMP:20250621T063838Z
URL:https://www.fqcb.be/events/antoine-armedan/
SUMMARY:Antoine Armedan
DESCRIPTION:De la pop. Du folk. Du français. De la vie.\nVoilà le projet 
 d’Antoine Armedan résumé en quelques mots. Antoine est un compositeur 
 et interprète belge\, amoureux des mots et des mélodies. Après avoir so
 rti 3 albums\, il est de retour en 2025 avec un nouvel opus intitulé "Un 
 rêve une vie".\nUn artiste authentique et sincère\, à suivre de près.
ATTACH;FMTTYPE=image/jpeg:https://www.fqcb.be/wp-content/uploads/2025/06/A
 ntoine-Armedan-par-Philippe-Colignon-bis-scaled.jpg
CATEGORIES:Saison 2025-2026
LOCATION:Maison des Loisirs\, Grand'Place 9\, Mont-Saint-Guibert\, 1435\, B
 elgique
X-APPLE-STRUCTURED-LOCATION;VALUE=URI;X-ADDRESS=Grand'Place 9\, Mont-Saint-
 Guibert\, 1435\, Belgique;X-APPLE-RADIUS=100;X-TITLE=Maison des Loisirs:ge
 o:0,0
END:VEVENT
BEGIN:VTIMEZONE
TZID:Europe/Paris
X-LIC-LOCATION:Europe/Paris
BEGIN:DAYLIGHT
DTSTART:20250330T030000
TZOFFSETFROM:+0100
TZOFFSETTO:+0200
TZNAME:CEST
END:DAYLIGHT
END:VTIMEZONE
END:VCALENDAR